BEGIN:VCALENDAR
VERSION:2.0
METHOD:PUBLISH
PRODID:-//hacksw/handcal//NONSGML v1.0//EN
BEGIN:VEVENT
DTSTAMP:20260422T121501Z
DTSTART:20260427T100000Z
DTEND:20260427T110000Z
UID:20260427T100000Z-20260427T110000Z-348@rotarykatrineholm.se
SUMMARY:Medlemsmöte VAL
DESCRIPTION:Klubben genomför medlemsmöte med valärenden.\n\nOm du inte
  kan delta på medlemsmötet är det viktigt att du ger en deltagande med
 lem fullmakt\, så att mötet blir beslutsmässigt. Fullmakten ska visa v
 ilken medlem du ger fullmakt att företräda dig på mötet. Fullmakten sk
 a vara underskriven av dig eller skickad genom din egen mailadress. De
 t är viktigt att fullmaktsgivarens identitet är tydlig.\n\nGästvärd: M
 ats Blomqvist
X-ALT-DESC;FMTTYPE=text/html:<p>Klubben genomför medlemsmöte med valär
 enden.</p>\n<p>Om du inte kan delta på medlemsmötet är det viktigt att
  du ger en deltagande medlem <strong>fullmakt</strong>\, så att mötet 
 blir beslutsmässigt. Fullmakten ska visa vilken medlem du ger fullmakt
  att företräda dig på mötet. Fullmakten ska vara underskriven av dig e
 ller skickad genom din egen mailadress. Det är viktigt att fullmaktsgi
 varens identitet är tydlig.</p>\n<p>Gästvärd: <em>Mats Blomqvist</em><
 /p>\n
URL:https://rotarykatrineholm.se/events/medmelsmote-val/?lang=sv
ATTACH:https://rotarykatrineholm.se/events/medmelsmote-val/?lang=sv
END:VEVENT
BEGIN:VEVENT
DTSTAMP:20260422T121501Z
DTSTART:20260504T100000Z
DTEND:20260504T110000Z
UID:20260504T100000Z-20260504T110000Z-349@rotarykatrineholm.se
SUMMARY:Samhällsbyggnadschef Aline Eriksson
DESCRIPTION:Kommunens nya samhällsbyggnadschef Aline Eriksson presente
 rar sig och sin roll i stadens utveckling. Områden som Triangeln och a
 nnat aktuellt tas upp.\n\nGästvärd: Birgitta Bäckman
X-ALT-DESC;FMTTYPE=text/html:<p>Kommunens nya samhällsbyggnadschef <em
 >Aline Eriksson</em> presenterar sig och sin roll i stadens utveckling
 . Områden som Triangeln och annat aktuellt tas upp.</p>\n<p>Gästvärd: 
 <em>Birgitta Bäckman</em></p>\n
URL:https://rotarykatrineholm.se/events/samhallsbyggnadschef-aline-eri
 ksson/?lang=sv
ATTACH:https://rotarykatrineholm.se/events/samhallsbyggnadschef-aline-
 eriksson/?lang=sv
END:VEVENT
END:VCALENDAR
